BEGIN:VCALENDAR
VERSION:2.0
PRODID:-//Dad&#039;s Belgian Waffles - ECPv6.15.17.1//NONSGML v1.0//EN
CALSCALE:GREGORIAN
METHOD:PUBLISH
X-ORIGINAL-URL:https://dadsbelgianwaffles.com
X-WR-CALDESC:Events for Dad&#039;s Belgian Waffles
REFRESH-INTERVAL;VALUE=DURATION:PT1H
X-Robots-Tag:noindex
X-PUBLISHED-TTL:PT1H
BEGIN:VTIMEZONE
TZID:America/Chicago
BEGIN:DAYLIGHT
TZOFFSETFROM:-0600
TZOFFSETTO:-0500
TZNAME:CDT
DTSTART:20240310T080000
END:DAYLIGHT
BEGIN:STANDARD
TZOFFSETFROM:-0500
TZOFFSETTO:-0600
TZNAME:CST
DTSTART:20241103T070000
END:STANDARD
BEGIN:DAYLIGHT
TZOFFSETFROM:-0600
TZOFFSETTO:-0500
TZNAME:CDT
DTSTART:20250309T080000
END:DAYLIGHT
BEGIN:STANDARD
TZOFFSETFROM:-0500
TZOFFSETTO:-0600
TZNAME:CST
DTSTART:20251102T070000
END:STANDARD
BEGIN:DAYLIGHT
TZOFFSETFROM:-0600
TZOFFSETTO:-0500
TZNAME:CDT
DTSTART:20260308T080000
END:DAYLIGHT
BEGIN:STANDARD
TZOFFSETFROM:-0500
TZOFFSETTO:-0600
TZNAME:CST
DTSTART:20261101T070000
END:STANDARD
END:VTIMEZONE
BEGIN:VEVENT
DTSTART;TZID=America/Chicago:20250510T100000
DTEND;TZID=America/Chicago:20250510T130000
DTSTAMP:20260423T012743
CREATED:20250127T171820Z
LAST-MODIFIED:20250127T174016Z
UID:849-1746871200-1746882000@dadsbelgianwaffles.com
SUMMARY:Schleswig\, IA
DESCRIPTION:
URL:https://dadsbelgianwaffles.com/event/schleswig-ia/
LOCATION:Schleswig Golf Course\, 904 Valley View Drive\, Schleswig\, IA\, 51461\, United States
CATEGORIES:Private Graduation Reception
END:VEVENT
BEGIN:VEVENT
DTSTART;TZID=America/Chicago:20250510T100000
DTEND;TZID=America/Chicago:20250510T130000
DTSTAMP:20260423T012743
CREATED:20250130T151100Z
LAST-MODIFIED:20250130T151100Z
UID:854-1746871200-1746882000@dadsbelgianwaffles.com
SUMMARY:Algona\, IA
DESCRIPTION:
URL:https://dadsbelgianwaffles.com/event/algona-ia-3/
LOCATION:Berl Priebe Farm\, Algona\, IA\, 50511\, United States
CATEGORIES:Private Graduation Reception
END:VEVENT
END:VCALENDAR