BEGIN:VCALENDAR
VERSION:2.0
PRODID:-//Dad&#039;s Belgian Waffles - ECPv6.15.17.1//NONSGML v1.0//EN
CALSCALE:GREGORIAN
METHOD:PUBLISH
X-WR-CALNAME:Dad&#039;s Belgian Waffles
X-ORIGINAL-URL:https://dadsbelgianwaffles.com
X-WR-CALDESC:Events for Dad&#039;s Belgian Waffles
REFRESH-INTERVAL;VALUE=DURATION:PT1H
X-Robots-Tag:noindex
X-PUBLISHED-TTL:PT1H
BEGIN:VTIMEZONE
TZID:America/Chicago
BEGIN:DAYLIGHT
TZOFFSETFROM:-0600
TZOFFSETTO:-0500
TZNAME:CDT
DTSTART:20240310T080000
END:DAYLIGHT
BEGIN:STANDARD
TZOFFSETFROM:-0500
TZOFFSETTO:-0600
TZNAME:CST
DTSTART:20241103T070000
END:STANDARD
BEGIN:DAYLIGHT
TZOFFSETFROM:-0600
TZOFFSETTO:-0500
TZNAME:CDT
DTSTART:20250309T080000
END:DAYLIGHT
BEGIN:STANDARD
TZOFFSETFROM:-0500
TZOFFSETTO:-0600
TZNAME:CST
DTSTART:20251102T070000
END:STANDARD
BEGIN:DAYLIGHT
TZOFFSETFROM:-0600
TZOFFSETTO:-0500
TZNAME:CDT
DTSTART:20260308T080000
END:DAYLIGHT
BEGIN:STANDARD
TZOFFSETFROM:-0500
TZOFFSETTO:-0600
TZNAME:CST
DTSTART:20261101T070000
END:STANDARD
END:VTIMEZONE
BEGIN:VEVENT
DTSTART;TZID=America/Chicago:20250510T100000
DTEND;TZID=America/Chicago:20250510T130000
DTSTAMP:20260423T000938
CREATED:20250127T171820Z
LAST-MODIFIED:20250127T174016Z
UID:849-1746871200-1746882000@dadsbelgianwaffles.com
SUMMARY:Schleswig\, IA
DESCRIPTION:
URL:https://dadsbelgianwaffles.com/event/schleswig-ia/
LOCATION:Schleswig Golf Course\, 904 Valley View Drive\, Schleswig\, IA\, 51461\, United States
CATEGORIES:Private Graduation Reception
END:VEVENT
BEGIN:VEVENT
DTSTART;TZID=America/Chicago:20250510T100000
DTEND;TZID=America/Chicago:20250510T130000
DTSTAMP:20260423T000938
CREATED:20250130T151100Z
LAST-MODIFIED:20250130T151100Z
UID:854-1746871200-1746882000@dadsbelgianwaffles.com
SUMMARY:Algona\, IA
DESCRIPTION:
URL:https://dadsbelgianwaffles.com/event/algona-ia-3/
LOCATION:Berl Priebe Farm\, Algona\, IA\, 50511\, United States
CATEGORIES:Private Graduation Reception
END:VEVENT
BEGIN:VEVENT
DTSTART;TZID=America/Chicago:20250517T100000
DTEND;TZID=America/Chicago:20250517T130000
DTSTAMP:20260423T000938
CREATED:20250324T161927Z
LAST-MODIFIED:20250324T161927Z
UID:911-1747476000-1747486800@dadsbelgianwaffles.com
SUMMARY:Aurelia\, IA
DESCRIPTION:
URL:https://dadsbelgianwaffles.com/event/aurelia-ia/
LOCATION:Community Building-Matriarchs Event Hall\, Main Street\, Aurelia\, IA\, 51005\, United States
CATEGORIES:Private Graduation Reception
END:VEVENT
BEGIN:VEVENT
DTSTART;TZID=America/Chicago:20250524T090000
DTEND;TZID=America/Chicago:20250524T120000
DTSTAMP:20260423T000938
CREATED:20250121T154904Z
LAST-MODIFIED:20250123T142624Z
UID:838-1748077200-1748088000@dadsbelgianwaffles.com
SUMMARY:Hayward\, MN
DESCRIPTION:
URL:https://dadsbelgianwaffles.com/event/hayward-mn/
LOCATION:MN
CATEGORIES:Private Graduation Reception
END:VEVENT
BEGIN:VEVENT
DTSTART;TZID=America/Chicago:20250525T103000
DTEND;TZID=America/Chicago:20250525T133000
DTSTAMP:20260423T000938
CREATED:20250218T162858Z
LAST-MODIFIED:20250218T162858Z
UID:882-1748169000-1748179800@dadsbelgianwaffles.com
SUMMARY:Lynnville\, IA
DESCRIPTION:
URL:https://dadsbelgianwaffles.com/event/lynnville-ia/
LOCATION:Friend’s Church FCC Building\, 503 E Street\, Lynnville\, IA\, 50153\, United States
CATEGORIES:Private Graduation Reception
END:VEVENT
BEGIN:VEVENT
DTSTART;TZID=America/Chicago:20250531T090000
DTEND;TZID=America/Chicago:20250531T110000
DTSTAMP:20260423T000938
CREATED:20250325T162851Z
LAST-MODIFIED:20250325T162851Z
UID:915-1748682000-1748689200@dadsbelgianwaffles.com
SUMMARY:Trimont\, MN
DESCRIPTION:
URL:https://dadsbelgianwaffles.com/event/trimont-mn/
LOCATION:Anderson Park\, Chestnut Street\, Trimont\, MN\, 56176\, United States
CATEGORIES:Private Graduation Reception
END:VEVENT
BEGIN:VEVENT
DTSTART;TZID=America/Chicago:20250531T100000
DTEND;TZID=America/Chicago:20250531T130000
DTSTAMP:20260423T000938
CREATED:20241231T152440Z
LAST-MODIFIED:20241231T152440Z
UID:816-1748685600-1748696400@dadsbelgianwaffles.com
SUMMARY:Blue Earth\, MN
DESCRIPTION:
URL:https://dadsbelgianwaffles.com/event/blue-earth-mn/
LOCATION:10 Talents Art Center\, 710 E 14th Street\, Blue Earth\, MN\, 56013\, United States
CATEGORIES:Private Graduation Reception
END:VEVENT
END:VCALENDAR