BEGIN:VCALENDAR
VERSION:2.0
PRODID:-//Dad&#039;s Belgian Waffles - ECPv6.15.17.1//NONSGML v1.0//EN
CALSCALE:GREGORIAN
METHOD:PUBLISH
X-ORIGINAL-URL:https://dadsbelgianwaffles.com
X-WR-CALDESC:Events for Dad&#039;s Belgian Waffles
REFRESH-INTERVAL;VALUE=DURATION:PT1H
X-Robots-Tag:noindex
X-PUBLISHED-TTL:PT1H
BEGIN:VTIMEZONE
TZID:America/Chicago
BEGIN:DAYLIGHT
TZOFFSETFROM:-0600
TZOFFSETTO:-0500
TZNAME:CDT
DTSTART:20240310T080000
END:DAYLIGHT
BEGIN:STANDARD
TZOFFSETFROM:-0500
TZOFFSETTO:-0600
TZNAME:CST
DTSTART:20241103T070000
END:STANDARD
BEGIN:DAYLIGHT
TZOFFSETFROM:-0600
TZOFFSETTO:-0500
TZNAME:CDT
DTSTART:20250309T080000
END:DAYLIGHT
BEGIN:STANDARD
TZOFFSETFROM:-0500
TZOFFSETTO:-0600
TZNAME:CST
DTSTART:20251102T070000
END:STANDARD
BEGIN:DAYLIGHT
TZOFFSETFROM:-0600
TZOFFSETTO:-0500
TZNAME:CDT
DTSTART:20260308T080000
END:DAYLIGHT
BEGIN:STANDARD
TZOFFSETFROM:-0500
TZOFFSETTO:-0600
TZNAME:CST
DTSTART:20261101T070000
END:STANDARD
END:VTIMEZONE
BEGIN:VEVENT
DTSTART;TZID=America/Chicago:20251002T170000
DTEND;TZID=America/Chicago:20251002T190000
DTSTAMP:20260421T140652
CREATED:20240822T155505Z
LAST-MODIFIED:20250616T154513Z
UID:678-1759424400-1759431600@dadsbelgianwaffles.com
SUMMARY:Alton\, IA
DESCRIPTION:
URL:https://dadsbelgianwaffles.com/event/alton-ia/
LOCATION:St Mary’s Parish Center\, 908 6th Avenue\, Alton\, IA\, 51003\, United States
CATEGORIES:Fundraiser
END:VEVENT
BEGIN:VEVENT
DTSTART;TZID=America/Chicago:20251018T083000
DTEND;TZID=America/Chicago:20251018T110000
DTSTAMP:20260421T140652
CREATED:20240807T160047Z
LAST-MODIFIED:20250603T134109Z
UID:198-1760776200-1760785200@dadsbelgianwaffles.com
SUMMARY:Alma\, WI
DESCRIPTION:
URL:https://dadsbelgianwaffles.com/event/alma-wi/
LOCATION:American Legion Post #224\, 501 N Main Street\, Alma\, WI\, United States
CATEGORIES:Fundraiser
END:VEVENT
BEGIN:VEVENT
DTSTART;TZID=America/Chicago:20251021T170000
DTEND;TZID=America/Chicago:20251021T190000
DTSTAMP:20260421T140652
CREATED:20240807T175622Z
LAST-MODIFIED:20250908T163623Z
UID:320-1761066000-1761073200@dadsbelgianwaffles.com
SUMMARY:Belmond\, IA
DESCRIPTION:
URL:https://dadsbelgianwaffles.com/event/belmond-ia/
LOCATION:St Frances Xavier Catholic Church\, 1207 3rd Street NE\, Belmond\, IA\, 50421\, United States
CATEGORIES:Fundraiser
END:VEVENT
END:VCALENDAR